BEGIN:VCALENDAR
VERSION:2.0
PRODID:-//L&#039;Arrosé - ECPv6.15.17//NONSGML v1.0//EN
CALSCALE:GREGORIAN
METHOD:PUBLISH
X-WR-CALNAME:L&#039;Arrosé
X-ORIGINAL-URL:https://larrose.be
X-WR-CALDESC:Évènements pour L&#039;Arrosé
REFRESH-INTERVAL;VALUE=DURATION:PT1H
X-Robots-Tag:noindex
X-PUBLISHED-TTL:PT1H
BEGIN:VTIMEZONE
TZID:Europe/Zurich
BEGIN:DAYLIGHT
TZOFFSETFROM:+0100
TZOFFSETTO:+0200
TZNAME:CEST
DTSTART:20250330T010000
END:DAYLIGHT
BEGIN:STANDARD
TZOFFSETFROM:+0200
TZOFFSETTO:+0100
TZNAME:CET
DTSTART:20251026T010000
END:STANDARD
BEGIN:DAYLIGHT
TZOFFSETFROM:+0100
TZOFFSETTO:+0200
TZNAME:CEST
DTSTART:20260329T010000
END:DAYLIGHT
BEGIN:STANDARD
TZOFFSETFROM:+0200
TZOFFSETTO:+0100
TZNAME:CET
DTSTART:20261025T010000
END:STANDARD
BEGIN:DAYLIGHT
TZOFFSETFROM:+0100
TZOFFSETTO:+0200
TZNAME:CEST
DTSTART:20270328T010000
END:DAYLIGHT
BEGIN:STANDARD
TZOFFSETFROM:+0200
TZOFFSETTO:+0100
TZNAME:CET
DTSTART:20271031T010000
END:STANDARD
END:VTIMEZONE
BEGIN:VEVENT
DTSTART;TZID=Europe/Zurich:20260106T183000
DTEND;TZID=Europe/Zurich:20260616T203000
DTSTAMP:20260425T030657
CREATED:20260103T104323Z
LAST-MODIFIED:20260103T104323Z
UID:29417-1767724200-1781641800@larrose.be
SUMMARY:🧶 Atelier crochet & macramé (second semestre)
DESCRIPTION:Cycle de 20 ateliers hebdomadaires Crochet & Macramé (06/01 – 13/01 – 20/01 – 27 /01 – 03/02 – 10/02 – 03/03 – 10/03 – 17/03 – 24/03 – 31/03 – 07/04 – 14/04 – 21/04 – 12/05 – 19/05 – 26/05 – 02/06 – 09/06 – 16/06.) \nLes mardis soirs de 18h30 à 20h30 à L’Arrosé (Virginal) \nAnimatrice : Michèle \nMatériel de base fourni \nPrix : 300 € pour les 20 cours (Pas de remboursement en cas d’absence du participant. En cas de cours annulé par le Centre Culturel\, le cours sera reporté à une autre date). \nPas de cours pendant les jours fériés et congés scolaires. \nPour le crochet\, nous ferons d’abord un cours de rappel des différents points utilisés ainsi que les abréviations lors de la lecture des explicatifs du travail au crochet. Pour s’habituer avec le crochet\, on fera une réalisation simple. Les cours suivants\, nous travaillerons sur la base des carrés « granny »\, choisir en fonction des envies des personnes\, un modèle de granny et de composer un accessoire (petite pochette\, petite trousse\, …). On pourra également travailler avec plusieurs couleurs. \nPour le macramé\, on apprendra tout d’abord les noeuds de base et on réalisera un ou plusieurs bracelets. Les cours suivants\, on réalisera un mobile. On pourra également travailler avec différentes matières de cordes… \nInfos et inscriptions : https://shop.utick.net/?module=ACTIVITYSERIEDETAILS&pos=ITTRECULTURE&s=1A9BB586-1531-FD32-FCB1-DD7E35166C3D
URL:https://larrose.be/event/%f0%9f%a7%b6-atelier-crochet-macrame-second-semestre/
LOCATION:L’Arrosé\, Rue Charles Catala\, 2\, Virginal\, 1460\, Belgique
ORGANIZER;CN="Centre Culturel d'Ittre":MAILTO:info@ittreculture.be
END:VEVENT
BEGIN:VEVENT
DTSTART;TZID=Europe/Zurich:20260425T093000
DTEND;TZID=Europe/Zurich:20260425T120000
DTSTAMP:20260425T030657
CREATED:20260326T150214Z
LAST-MODIFIED:20260326T150214Z
UID:29572-1777109400-1777118400@larrose.be
SUMMARY:📝 Atelier d'écriture 🖋️
DESCRIPTION:Atelier de 2h30 ouvert à 8 adultes. \nInscription via info@larrose.be ou 0494/08.93.00 \nL’idée est de proposer un atelier ludique\, de plaisir d’écriture\, de création. Il ne serait pas orienté vers la qualité grammaticale ou orthographique\, voire même stylistique mais vraiment de jeu.\nJ’envisage l’atelier comme un pas dans le cheminant poétique pour traverser notre monde. La joie de l’écrit nous apporte à chaque fois des surprises qui nous enchantent et nous éclairent dans nos existences. \nEn pratique\, il y aurait un premier temps de mise en mouvement à partir de quelques propositions pour susciter l’imagination et se dérider. Ensuite\, il y aurait une ou deux propositions avec un temps plus long d’écriture et ensuite de partage des écrits et commentaires bienveillants du groupe.
URL:https://larrose.be/event/%f0%9f%93%9d-atelier-decriture-%f0%9f%96%8b%ef%b8%8f-2/
LOCATION:L’Arrosé\, Rue Charles Catala\, 2\, Virginal\, 1460\, Belgique
END:VEVENT
END:VCALENDAR